BEGIN:VCALENDAR
VERSION:2.0
PRODID:-//ChamberMaster//Event Calendar 2.0//EN
METHOD:PUBLISH
X-PUBLISHED-TTL:P3D
REFRESH-INTERVAL:P3D
CALSCALE:GREGORIAN
BEGIN:VEVENT
DTSTART:20250515T123000Z
DTEND:20250515T170000Z
X-MICROSOFT-CDO-ALLDAYEVENT:FALSE
SUMMARY:What I Can Do Now: A Mini-Conference for Job Seekers
DESCRIPTION:On the job hunt? Let us help!\n\nYour career isn't on pause it's evolving. What I Can Do Now\, hosted by UMW's Office of Alumni Engagement\, Center for Career and Professional Development\, and Continuing and Professional Studies\, is a half-day mini-conference designed to give job seekers the tools\, insights\, and confidence to take the next step in their careers. We hope you will join us on Thursday\, May 15 from 8:30 a.m. - 1:00 p.m. for this opportunity.\n\nWhether you're exploring new opportunities\, refining your professional brand\, or expanding your network\, this event will equip you with actionable strategies to stand out in today's job market. Through dynamic panel discussions and an interactive workshop\, you'll learn how to effectively communicate your experience\, craft a compelling resume\, and tap into community resources that can accelerate your job search.\n\nIndustry professionals and hiring experts will share insider perspectives on how to position yourself for success whether in networking conversations\, interviews\, or applications. This isn't just another job-seeking event\; it's your opportunity to gain clarity\, direction\, and the confidence to move forward. Connect with professionals\, build meaningful relationships\, and walk away with real\, tangible next steps toward your next career move.\n\nThere is no cost to attend\, and the event is open to alumni\, parents\, and community members. Morning refreshments and a networking lunch will be provided.\n\nCan't attend in person? The event will be live-streamed via Zoom. Register online and select the virtual option to receive the Zoom link.
X-ALT-DESC;FMTTYPE=text/html:<p><strong>On the job hunt? Let us help!</strong></p>\n\n<p>Your career isn&rsquo\;t on pause&mdash\;it&rsquo\;s evolving.&nbsp\;<strong>What I Can Do Now</strong>\, hosted by UMW&#39\;s Office of Alumni Engagement\, Center for Career and Professional Development\, and Continuing and Professional Studies\, is a half-day mini-conference designed to give job seekers the tools\, insights\, and confidence to take the next step in their careers. We hope you will join us on&nbsp\;<strong>Thursday\, May 15 from 8:30 a.m. - 1:00 p.m.</strong>&nbsp\;for this opportunity.</p>\n\n<p>Whether you&rsquo\;re exploring new opportunities\, refining your professional brand\, or expanding your network\, this event will equip you with actionable strategies to stand out in today&rsquo\;s job market. Through dynamic panel discussions and an interactive workshop\, you&rsquo\;ll learn how to effectively communicate your experience\, craft a compelling resume\, and tap into community resources that can accelerate your job search.</p>\n\n<p>Industry professionals and hiring experts will share insider perspectives on how to position yourself for success&mdash\;whether in networking conversations\, interviews\, or applications. This isn&rsquo\;t just another job-seeking event\; it&rsquo\;s your opportunity to gain clarity\, direction\, and the confidence to move forward. Connect with professionals\, build meaningful relationships\, and walk away with real\, tangible next steps toward your next career move.</p>\n\n<p>There is no cost to attend\, and the event is open to alumni\, parents\, and community members. Morning refreshments and a networking lunch will be provided.</p>\n\n<p>Can&#39\;t attend in person? The event will be live-streamed via Zoom. Register online and select the virtual option to receive the Zoom link.</p>\n
LOCATION:Jepson Alumni Executive Center 1119 Hanover Street Fredericksburg\, Virginia 22401
UID:e.492.14607
SEQUENCE:3
DTSTAMP:20260422T035626Z
URL:https://members.fredericksburgchamber.org/events/details/what-i-can-do-now-a-mini-conference-for-job-seekers-14607
END:VEVENT

END:VCALENDAR
