BEGIN:VCALENDAR
VERSION:2.0
PRODID:-//ChamberMaster//Event Calendar 2.0//EN
METHOD:PUBLISH
X-PUBLISHED-TTL:P3D
REFRESH-INTERVAL:P3D
CALSCALE:GREGORIAN
BEGIN:VEVENT
DTSTART:20250919T230000Z
DTEND:20250920T030000Z
X-MICROSOFT-CDO-ALLDAYEVENT:FALSE
SUMMARY:Whiskey Business Japan
DESCRIPTION:Whiskey Business 2025: Discover the Spirit of Japan\n\nWhiskey Business isn't just a memorable evening\, it's a signature fundraising event that directly fuels the lifesaving work of Gwyneth's Gift Foundation. Through ticket sales and sponsorships\, this event helps us provide\, free CPR and AED training to individuals and organizations in our community and throughout Virginia\, place defibrillators (AEDs) in public spaces and high-risks areas\, provide scholarships that support youth who embody who Gwyneth Griffin was\, and bring awareness of sudden cardiac arrest\, building confident communities equipped to save lives Every sip\, every sponsorship\, and every shared moment at Whiskey Business brings us closer to our mission: to give people the skills and confident they need to act in a cardiac emergency. Together\, we're not just raising glasses\, we're raising awareness\, preparedness\, and the chance to save a life!\n\n\nStep into a world of refinement and culture at our annual Whiskey Business event - this year with a Japanese twist.\n\nJoin us for a one-of-a-kind evening featuring:\n\n* Rare and premium Japanese whiskey tastings.\n\n* Heavy hor d'oeuvres with Japanese-inspired flavors.\n\n* Captivating cultural entertainment.\n\n* An unforgettable event for a great cause!\n\n \nInterested in becoming a sponsor?\n\nAll sponsors receive VIP access for our and your guests.\n\nhttps://bit.ly/GGFWHISKEY
X-ALT-DESC;FMTTYPE=text/html:<h2>Whiskey Business 2025: Discover the Spirit of Japan</h2>\n\n<p>Whiskey Business isn&#39\;t just a memorable evening\, it&#39\;s a signature fundraising event that directly fuels the lifesaving work of Gwyneth&#39\;s Gift Foundation. Through ticket sales and sponsorships\, this event helps us provide\, free CPR and AED training to individuals and organizations in our community and throughout Virginia\, place defibrillators (AEDs) in public spaces and high-risks areas\, provide scholarships that support youth who embody who Gwyneth Griffin was\, and bring awareness of sudden cardiac arrest\, building confident communities equipped to save lives Every sip\, every sponsorship\, and every shared moment at Whiskey Business brings us closer to our mission: to give people the skills and confident they need to act in a cardiac emergency. Together\, we&#39\;re not just raising glasses\, we&#39\;re raising awareness\, preparedness\, and the chance to save a life!</p>\n\n<div>\n<p>Step into a world of refinement and culture at our annual Whiskey Business event - this year with a Japanese twist.</p>\n\n<div>Join us for a one-of-a-kind evening featuring:</div>\n\n<div>* Rare and premium Japanese whiskey tastings.</div>\n\n<div>* Heavy hor d&#39\;oeuvres with Japanese-inspired flavors.</div>\n\n<div>* Captivating cultural entertainment.</div>\n\n<div>* An unforgettable event for a great cause!<br />\n&nbsp\;\n<div>Interested in becoming a sponsor?</div>\n\n<div>All sponsors receive VIP access for our and your guests.</div>\n\n<div><a href="https://bit.ly/GGFWHISKEY" style="box-sizing: border-box\; color: rgb(222\, 44\, 0)\; background-color: transparent\;">https://bit.ly/GGFWHISKEY</a></div>\n</div>\n</div>\n
LOCATION:Inn at the Old Silk Mill\, 1701 Princess Anne St. Fredericksburg\, VA 22401
UID:e.492.14997
SEQUENCE:3
DTSTAMP:20260421T223740Z
URL:https://members.fredericksburgchamber.org/events/details/whiskey-business-japan-14997
END:VEVENT

END:VCALENDAR
