BEGIN:VCALENDAR
VERSION:2.0
PRODID:-//ChamberMaster//Event Calendar 2.0//EN
METHOD:PUBLISH
X-PUBLISHED-TTL:P3D
REFRESH-INTERVAL:P3D
CALSCALE:GREGORIAN
BEGIN:VEVENT
DTSTART:20220917T160000Z
DTEND:20220918T000000Z
X-MICROSOFT-CDO-ALLDAYEVENT:FALSE
SUMMARY:Wild Roots Music Festival
DESCRIPTION:Wilderness Presidential Resort presents the Wild Roots Music Festival. The most entertaining music festival near Fredericksburg and Northern Virginia Rock to live music in a spectacular lakeside setting. Bring the family and enjoy a day of activities\, local craft beer and food trucks. Live Music Includes: Full Proof Feehan Brothers Brisk Noel Duke and Friends Food Trucks Include: LaLa's Kitchen Two Cool Smooth Dudes Local Craft Beer from 6 Bears & a Goat served by Travelin' Tavern of Fredericksburg
X-ALT-DESC;FMTTYPE=text/html:Wilderness Presidential Resort presents the Wild Roots Music Festival. The most entertaining music festival near Fredericksburg and Northern Virginia Rock to live music in a spectacular lakeside setting. Bring the family and enjoy a day of activities\, local craft beer and food trucks. Live Music Includes: Full Proof Feehan Brothers Brisk Noel Duke and Friends Food Trucks Include: LaLa&#39\;s Kitchen Two Cool Smooth Dudes Local Craft Beer from 6 Bears &amp\; a Goat served by Travelin&#39\; Tavern of Fredericksburg
LOCATION:Wilderness Presidential Resort 9220 Plank Road Spotsylvania\, VA 22553
UID:e.492.13052
SEQUENCE:3
DTSTAMP:20260422T194556Z
URL:https://members.fredericksburgchamber.org/events/details/wild-roots-music-festival-09-17-2022-13052
END:VEVENT

END:VCALENDAR
