BEGIN:VCALENDAR
VERSION:2.0
PRODID:-//ChamberMaster//Event Calendar 2.0//EN
METHOD:PUBLISH
X-PUBLISHED-TTL:P3D
REFRESH-INTERVAL:P3D
CALSCALE:GREGORIAN
BEGIN:VEVENT
DTSTART:20240320T220000Z
DTEND:20240322T003000Z
X-MICROSOFT-CDO-ALLDAYEVENT:FALSE
SUMMARY:Wine Exploration Course
DESCRIPTION:This two-day course will develop your knowledge and confidence around all things wine including\, taste\, presentation and storage\, tradition\, Terroir\, and growing methods\, and culminating in a sensory experience using the Aroma Wheel. The course is taught by wine experts from Potomac Point Winery and Vineyard. At the end of this course\, you will be able to: explain proper wine storage and presentation\, discuss how grape vines grow and the process of making wine\, navigate a wine list\, understand Terroir\, experience a wine sensory class\, and use an Aroma Wheel to understand what fruits are sensed and why.
X-ALT-DESC;FMTTYPE=text/html:This two-day course will develop your knowledge and confidence around all things wine including\, taste\, presentation and storage\, tradition\, Terroir\, and growing methods\, and culminating in a sensory experience using the Aroma Wheel. The course is taught by wine experts from Potomac Point Winery and Vineyard. At the end of this course\, you will be able to: explain proper wine storage and presentation\, discuss how grape vines grow and the process of making wine\, navigate a wine list\, understand Terroir\, experience a wine sensory class\, and use an Aroma Wheel to understand what fruits are sensed and why.
LOCATION:University Hall in the Gates-Hudson Building on the Stafford Campus- 125 University Blvd\, Fredericksburg\, VA 22406
UID:e.492.13865
SEQUENCE:3
DTSTAMP:20260422T053906Z
URL:https://members.fredericksburgchamber.org/events/details/wine-exploration-course-13865
END:VEVENT

END:VCALENDAR
