BEGIN:VCALENDAR
VERSION:2.0
PRODID:-//ChamberMaster//Event Calendar 2.0//EN
METHOD:PUBLISH
X-PUBLISHED-TTL:P3D
REFRESH-INTERVAL:P3D
CALSCALE:GREGORIAN
BEGIN:VEVENT
DTSTART:20230616T200000Z
DTEND:20230616T220000Z
X-MICROSOFT-CDO-ALLDAYEVENT:FALSE
SUMMARY:Wine Tasting and Pairing
DESCRIPTION:Chardonnay\, Riesling\, Sauvignon Blanc\, Cabernet Sauvignon\, Pinot Noir\, or Melot --Grab your wine tasting notebook and away we will go! Find out the distinct characteristics select wines and learn the art of tasting and pairing. We will be sampling white and red wines\, a sparkling white (a customer favorite since its introduction) and a rose. All wines will have a pairing. \n\n\n\n \n\n\n\nLearn the basics with newly found friends in this fun\, hands on course. Come hungry and leave with almost connoisseur knowledge\, almost and a full stomach! Enjoy a complimentary glass of your favorite wine. Class is limited to 20 people and lasts for approximately 90 minutes.
X-ALT-DESC;FMTTYPE=text/html:<div>\n<div>Chardonnay\, Riesling\, Sauvignon Blanc\, Cabernet Sauvignon\, Pinot Noir\, or Melot --Grab your wine tasting notebook and away we will go! Find out the distinct characteristics select wines and learn the art of tasting and pairing. We will be sampling white and red wines\, a sparkling white (a customer favorite since its introduction) and a rose. All wines will have a pairing.&nbsp\;</div>\n</div>\n\n<div>\n<div>&nbsp\;</div>\n</div>\n\n<div>\n<div>Learn the basics with newly found friends in this fun\, hands on course. Come hungry and leave with almost connoisseur knowledge\, almost and a full stomach! Enjoy a complimentary glass of your favorite wine. Class is limited to 20 people and lasts for approximately 90 minutes.&nbsp\;</div>\n</div>\n
LOCATION:104 Wolfe St.
UID:e.492.13601
SEQUENCE:3
DTSTAMP:20260422T052956Z
URL:https://members.fredericksburgchamber.org/events/details/wine-tasting-and-pairing-13601
END:VEVENT

END:VCALENDAR
