BEGIN:VCALENDAR
VERSION:2.0
PRODID:-//ChamberMaster//Event Calendar 2.0//EN
METHOD:PUBLISH
X-PUBLISHED-TTL:P3D
REFRESH-INTERVAL:P3D
CALSCALE:GREGORIAN
BEGIN:VEVENT
DTSTART:20240109T130000Z
DTEND:20240109T140000Z
X-MICROSOFT-CDO-ALLDAYEVENT:FALSE
SUMMARY:Women's Leadership Colloquium at UMW'S January Monthly Coffee Talk
DESCRIPTION:Join us at January's Coffee Talk as we delve into Adopting the Habits of Resilient Optimists. Are you already feeling defeated on achieving your goals for the new year? Hang in there\, you're not alone and there's hope for getting back on track. Achieving our goals is not always easy. We may face obstacles\, setbacks and disappointments along the way. Resilience and optimism can help us meet these challenges and keep us focused on our goals. This session will provide some tips and tools for developing resilience and adopting the habits of the optimist throughout our personal and professional journeys. January's Coffee Talk to kick off the new year will be led by Veronica Curry\, Associate Vice President of Human Resources at Germanna Community College. Networking is the best thing you can do for your own professional development! Share\, learn and grow from other professionals in the Fredericksburg area.
X-ALT-DESC;FMTTYPE=text/html:Join us at January&#39\;s Coffee Talk as we delve into Adopting the Habits of Resilient Optimists. Are you already feeling defeated on achieving your goals for the new year? Hang in there\, you&rsquo\;re not alone and there&rsquo\;s hope for getting back on track. Achieving our goals is not always easy. We may face obstacles\, setbacks and disappointments along the way. Resilience and optimism can help us meet these challenges and keep us focused on our goals. This session will provide some tips and tools for developing resilience and adopting the habits of the optimist throughout our personal and professional journeys. January&#39\;s Coffee Talk to kick off the new year will be led by Veronica Curry\, Associate Vice President of Human Resources at Germanna Community College. Networking is the best thing you can do for your own professional development! Share\, learn and grow from other professionals in the Fredericksburg area.
LOCATION:Jepson Alumni Executive Center | 1119 Hanover St\, Fredericksburg\, VA 22401-5412\, United States
UID:e.492.13788
SEQUENCE:3
DTSTAMP:20260422T011016Z
URL:https://members.fredericksburgchamber.org/events/details/women-s-leadership-colloquium-at-umw-s-january-monthly-coffee-talk-13788
END:VEVENT

END:VCALENDAR
