BEGIN:VCALENDAR
VERSION:2.0
PRODID:-//ChamberMaster//Event Calendar 2.0//EN
METHOD:PUBLISH
X-PUBLISHED-TTL:P3D
REFRESH-INTERVAL:P3D
CALSCALE:GREGORIAN
BEGIN:VEVENT
DTSTART:20250501T210000Z
DTEND:20250501T230000Z
X-MICROSOFT-CDO-ALLDAYEVENT:FALSE
SUMMARY:Women United Power Hour | Speed Mentoring Event
DESCRIPTION:Rappahannock United Way's Women United Leadership Council invites you to POWER HOUR - a speed mentoring event to benefit Rappahannock United Way's Prosper Mentoring program\, empowering local women to achieve financial stability and a brighter future. Thursday\, May 1\, 2025   5:00 pm - 7:00 pm   Fredericksburg Country Club   Speed Mentoring   Hors d'oeuvres   Cash bar Power Hour is a dynamic networking and mentorship experience designed to help women build connections\, gain valuable insights\, and grow a strong support network of like-minded professionals dedicated to success and community impact. How It Works Participants will rotate through timed\, small-group mentoring sessions\, engaging in meaningful conversations with accomplished local women leaders. Each session offers a chance to ask questions\, gain expert insights\, and expand your network in an empowering and supportive environment. Come ready to connect\, learn\, and grow with Women United! $50 per person. Please RSVP online early and no later than April 21\, 2025\, as we anticipate this event selling out fast prior to the RSVP date. Interested in sponsoring this event or being a Mentor? Contact Kristen: kreed@rappahannockunitedway.org
X-ALT-DESC;FMTTYPE=text/html:Rappahannock United Way&#39\;s Women United Leadership Council invites you to POWER HOUR - a speed mentoring event to benefit Rappahannock United Way&#39\;s Prosper Mentoring program\, empowering local women to achieve financial stability and a brighter future. Thursday\, May 1\, 2025 &bull\; 5:00 pm - 7:00 pm &bull\; Fredericksburg Country Club &bull\; Speed Mentoring &bull\; Hors d&#39\;oeuvres &bull\; Cash bar Power Hour is a dynamic networking and mentorship experience designed to help women build connections\, gain valuable insights\, and grow a strong support network of like-minded professionals dedicated to success and community impact. How It Works Participants will rotate through timed\, small-group mentoring sessions\, engaging in meaningful conversations with accomplished local women leaders. Each session offers a chance to ask questions\, gain expert insights\, and expand your network in an empowering and supportive environment. Come ready to connect\, learn\, and grow with Women United! $50 per person. Please RSVP online early and no later than April 21\, 2025\, as we anticipate this event selling out fast prior to the RSVP date. Interested in sponsoring this event or being a Mentor? Contact Kristen: kreed@rappahannockunitedway.org
LOCATION:Fredericksburg Country Club\, 11031 Tidewater Trail\, Fredericksburg\, VA 22408
UID:e.492.14499
SEQUENCE:3
DTSTAMP:20260422T035713Z
URL:https://members.fredericksburgchamber.org/events/details/women-united-power-hour-speed-mentoring-event-14499
END:VEVENT

END:VCALENDAR
