BEGIN:VCALENDAR
VERSION:2.0
PRODID:-//ChamberMaster//Event Calendar 2.0//EN
METHOD:PUBLISH
X-PUBLISHED-TTL:P3D
REFRESH-INTERVAL:P3D
CALSCALE:GREGORIAN
BEGIN:VEVENT
DTSTART:20230405T170000Z
DTEND:20230405T190000Z
X-MICROSOFT-CDO-ALLDAYEVENT:FALSE
SUMMARY:Work-Based Learning Fair
DESCRIPTION:Are you looking for work experience? Attend Germanna's Work-based Learning Fair\, an all-industry hiring event for employment\, volunteer\, and internship opportunities.
X-ALT-DESC;FMTTYPE=text/html:Are you looking for work experience? Attend Germanna&#39\;s Work-based Learning Fair\, an all-industry hiring event for employment\, volunteer\, and internship opportunities.
LOCATION:Fredericksburg Area Campus\, Workforce & Technology Building (SP2) Room 105 A/B and Lobby
UID:e.492.13454
SEQUENCE:3
DTSTAMP:20260422T102336Z
URL:https://members.fredericksburgchamber.org/events/details/work-based-learning-fair-04-05-2023-13454
END:VEVENT

END:VCALENDAR
