BEGIN:VCALENDAR
VERSION:2.0
PRODID:-//ChamberMaster//Event Calendar 2.0//EN
METHOD:PUBLISH
X-PUBLISHED-TTL:P3D
REFRESH-INTERVAL:P3D
CALSCALE:GREGORIAN
BEGIN:VEVENT
DTSTART:20221115T180000Z
DTEND:20221115T200000Z
X-MICROSOFT-CDO-ALLDAYEVENT:FALSE
SUMMARY:Work Based Learning Fair
DESCRIPTION:Work Based Learning Fair\n\nNovember 15   1 - 3 PM\n\nFredericksburg Area Campus - Workforce Building - SP2\n\n10000 Germanna Point Drive\n\n \n\nYou are invited to attend Germanna Community College's upcoming Work-Based Learning Fair. This is an all-industry hiring event for employment\, volunteer\, and internship opportunities. \n\n \n\nRSVP today so you don't miss out on this opportunity. https://grizzlyconnect.germanna.edu/events
X-ALT-DESC;FMTTYPE=text/html:<strong><span style="color:#222222"><span style="font-family:arial\,sans-serif"><span style="font-size:12.0pt">Work Based Learning Fair</span></span></span></strong><br />\n<span style="color:#222222"><span style="font-family:arial\,sans-serif"><span style="font-size:12.0pt">November&nbsp\;15&nbsp\;&bull\; 1 - 3 PM</span></span></span><br />\n<span style="color:#222222"><span style="font-family:arial\,sans-serif"><span style="font-size:12.0pt">Fredericksburg Area Campus - Workforce Building - SP2<br />\n10000 Germanna Point Drive</span></span></span><br />\n&nbsp\;<br />\n<span style="color:#222222"><span style="font-family:arial\,sans-serif"><span style="font-size:12.0pt">You are invited to attend Germanna Community College&rsquo\;s upcoming Work-Based Learning Fair. This is an all-industry hiring event for employment\, volunteer\, and internship opportunities.&nbsp\;</span></span></span><br />\n&nbsp\;<br />\n<span style="color:#222222"><span style="font-family:arial\,sans-serif"><span style="font-size:12.0pt">RSVP today so you don&rsquo\;t miss out on this opportunity.&nbsp\;<a href="https://grizzlyconnect.germanna.edu/events" target="_blank"><span style="color:#1155CC">https://grizzlyconnect.germanna.edu/events</span></a></span></span></span>
LOCATION:Fredericksburg Area Campus - Workforce Building - SP2 10000 Germanna Point Drive
UID:e.492.13152
SEQUENCE:3
DTSTAMP:20260422T163445Z
URL:https://members.fredericksburgchamber.org/events/details/work-based-learning-fair-13152
END:VEVENT

END:VCALENDAR
