BEGIN:VCALENDAR
VERSION:2.0
PRODID:-//ChamberMaster//Event Calendar 2.0//EN
METHOD:PUBLISH
X-PUBLISHED-TTL:P3D
REFRESH-INTERVAL:P3D
CALSCALE:GREGORIAN
BEGIN:VEVENT
DTSTART:20230119T200000Z
DTEND:20230119T220000Z
X-MICROSOFT-CDO-ALLDAYEVENT:FALSE
SUMMARY:Workforce NOW Workshop
DESCRIPTION:Workforce NOW Presents:
X-ALT-DESC;FMTTYPE=text/html:<strong><span style="font-size: medium"><span style="font-family: calibri"><span style="font-size: 14pt">Workforce NOW </span></span>Presents:&nbsp\;</span></strong><br />\n<br />\n&nbsp\;
LOCATION:Germanna Community College 10000 Germanna Point Drive Fredericksburg\, VA 22408
UID:e.492.13202
SEQUENCE:3
DTSTAMP:20260422T132623Z
URL:https://members.fredericksburgchamber.org/events/details/workforce-now-workshop-13202
END:VEVENT

END:VCALENDAR
