BEGIN:VCALENDAR
VERSION:2.0
PRODID:-//ChamberMaster//Event Calendar 2.0//EN
METHOD:PUBLISH
X-PUBLISHED-TTL:P3D
REFRESH-INTERVAL:P3D
CALSCALE:GREGORIAN
BEGIN:VEVENT
DTSTART:20240124T170000Z
DTEND:20240124T183000Z
X-MICROSOFT-CDO-ALLDAYEVENT:FALSE
SUMMARY:Workforce NOW Workshop-Intern Expo Prep for Your Business
DESCRIPTION:TBD
X-ALT-DESC;FMTTYPE=text/html:TBD
LOCATION:Fredericksburg Convention Center 2371 Carl D. Silver Pkwy Fredericksburg VA
UID:e.492.13769
SEQUENCE:3
DTSTAMP:20260422T004920Z
URL:https://members.fredericksburgchamber.org/events/details/workforce-now-workshop-intern-expo-prep-for-your-business-13769
END:VEVENT

END:VCALENDAR
