BEGIN:VCALENDAR
VERSION:2.0
PRODID:-//ChamberMaster//Event Calendar 2.0//EN
METHOD:PUBLISH
X-PUBLISHED-TTL:P3D
REFRESH-INTERVAL:P3D
CALSCALE:GREGORIAN
BEGIN:VEVENT
DTSTART:20250122T170000Z
DTEND:20250122T183000Z
X-MICROSOFT-CDO-ALLDAYEVENT:FALSE
SUMMARY:Workforce NOW Workshop-Intern Expo Prep for Your Business
DESCRIPTION:This event will provide attendees with a tool kit that includes resources and tips for navigating the February 2025 Intern Expo.\n\nThe Intern Expo is an event that brings together a variety of companies and organizations that offer internships to students. Attending this event can be an excellent opportunity for students to learn about different industries and gain valuable experience in their chosen field. One important aspect of attending the Intern Expo is being prepared with the right tools to make the most of the event.
X-ALT-DESC;FMTTYPE=text/html:<p style="padding: 0px 0px 1em\; border: 0px\; outline: 0px\; font-size: 16px\; text-size-adjust: 100%\; vertical-align: baseline\; background-image: initial\; background-position: initial\; background-size: initial\; background-repeat: initial\; background-attachment: initial\; background-origin: initial\; background-clip: initial\; font-family: quasimoda\, sans-serif\; color: rgb(33\, 33\, 33)\; text-align: center\; box-sizing: border-box !important\; margin: 0px 0px 25px !important\; line-height: var(--line-height) !important\;">This event will provide attendees with a tool kit that includes resources and tips for navigating the February 2025 Intern Expo.</p>\n\n<p style="padding: 0px\; border: 0px\; outline: 0px\; font-size: 16px\; text-size-adjust: 100%\; vertical-align: baseline\; background-image: initial\; background-position: initial\; background-size: initial\; background-repeat: initial\; background-attachment: initial\; background-origin: initial\; background-clip: initial\; font-family: quasimoda\, sans-serif\; color: rgb(33\, 33\, 33)\; text-align: center\; box-sizing: border-box !important\; margin: 0px 0px 25px !important\; line-height: var(--line-height) !important\;">The Intern Expo is an event that brings together a variety of companies and organizations that offer internships to students. Attending this event can be an excellent opportunity for students to learn about different industries and gain valuable experience in their chosen field. One important aspect of attending the Intern Expo is being prepared with the right tools to make the most of the event.</p>\n
LOCATION:Fredericksburg Convention Center 2371 Carl D. Silver Pkwy Fredericksburg\, VA 22401
UID:e.492.14322
SEQUENCE:3
DTSTAMP:20260422T103709Z
URL:https://members.fredericksburgchamber.org/events/details/workforce-now-workshop-intern-expo-prep-for-your-business-14322
END:VEVENT

END:VCALENDAR
