BEGIN:VCALENDAR
VERSION:2.0
PRODID:-//ChamberMaster//Event Calendar 2.0//EN
METHOD:PUBLISH
X-PUBLISHED-TTL:P3D
REFRESH-INTERVAL:P3D
CALSCALE:GREGORIAN
BEGIN:VEVENT
DTSTART:20220923T163000Z
DTEND:20220923T183000Z
X-MICROSOFT-CDO-ALLDAYEVENT:FALSE
SUMMARY:World-Renowned Budweiser Clydesdales at NMMC
DESCRIPTION:Join us on September 23rd from 12:30-2:30PM as the World Renowned Budweiser Clydesdales visit the National Museum of the Marine Corps! This family friendly event will allow you to take pictures in front of the famous Clydesdale carriage and see the horses in action as they do a parade around the outer NMMC parking lot. This FREE event is open to the public.
X-ALT-DESC;FMTTYPE=text/html:Join us on September 23rd from 12:30-2:30PM as the World Renowned Budweiser Clydesdales visit the National Museum of the Marine Corps! This family friendly event will allow you to take pictures in front of the famous Clydesdale carriage and see the horses in action as they do a parade around the outer NMMC parking lot. This FREE event is open to the public.
LOCATION:National Museum of the Marine Corps 1775 Semper Fidelis Way Triangle\, VA 22172
UID:e.492.13115
SEQUENCE:3
DTSTAMP:20260422T194300Z
URL:https://members.fredericksburgchamber.org/events/details/world-renowned-budweiser-clydesdales-at-nmmc-13115
END:VEVENT

END:VCALENDAR
