BEGIN:VCALENDAR
VERSION:2.0
PRODID:-//ChamberMaster//Event Calendar 2.0//EN
METHOD:PUBLISH
X-PUBLISHED-TTL:P3D
REFRESH-INTERVAL:P3D
CALSCALE:GREGORIAN
BEGIN:VEVENT
DTSTART:20240530T210000Z
DTEND:20240531T010000Z
X-MICROSOFT-CDO-ALLDAYEVENT:FALSE
SUMMARY:X Golf First Responders Hero's Night Out
DESCRIPTION:https://www.spotsylvaniatownecentre.com/event/X-Golfs-Heroes-Night-Out-Honoring-Spotsylvania-County-and-Fredericksburg-First-R/2145582853/
X-ALT-DESC;FMTTYPE=text/html:https://www.spotsylvaniatownecentre.com/event/X-Golfs-Heroes-Night-Out-Honoring-Spotsylvania-County-and-Fredericksburg-First-R/2145582853/
LOCATION:
UID:e.492.14127
SEQUENCE:3
DTSTAMP:20260422T070643Z
URL:https://members.fredericksburgchamber.org/events/details/x-golf-first-responders-hero-s-night-out-14127
END:VEVENT

END:VCALENDAR
