BEGIN:VCALENDAR
VERSION:2.0
PRODID:-//ChamberMaster//Event Calendar 2.0//EN
METHOD:PUBLISH
X-PUBLISHED-TTL:P3D
REFRESH-INTERVAL:P3D
CALSCALE:GREGORIAN
BEGIN:VEVENT
DTSTART:20230415T210000Z
DTEND:20230416T000000Z
X-MICROSOFT-CDO-ALLDAYEVENT:FALSE
SUMMARY:YET I STAND Stage Play
DESCRIPTION:Elaine Crocker\, Director of Yet Stand\, Inc. has written a stage play called Yet I Stand depicting her sexual assault experience and trauma to triumph\, victim to victory. The play is performed annually in April which is nationally recognized as Sexual Assault Awareness Month.\n\n\n\nYet I Stand has been performed since 2014 in Northern Virginia and Maryland.  Many in our audience are sexual assault survivors and speak up about their experience often for the first time.  As a result of the play our audience is encouraged to speak up and out and get help and help others.\n\n\n\nUpcoming performance April 15\, 2023 at 5:00pm at Zion Church of Fredericksburg\n\nTicket Information:  Yet Stand\, Inc presents YET I STAND Stage Play Tickets\, Sat\, Apr 15\, 2023 at 5:00 PM | Eventbrite
X-ALT-DESC;FMTTYPE=text/html:<p><span style="font-family:arial\,helvetica\,sans-serif"><span style="font-size:14px">Elaine Crocker\, Director of Yet Stand\, Inc. has written a stage play called <strong>Yet I Stand </strong>depicting her sexual assault experience and&nbsp\;<span style="color:rgb(5\, 5\, 5)">trauma to triumph\, victim to victory.</span> The play is performed annually in April which is nationally recognized as Sexual Assault Awareness Month.<br>\n<br>\nYet I Stand has been performed since 2014 in Northern Virginia and Maryland.&nbsp\; Many in our audience are sexual assault survivors and speak up about their experience often for the first time.&nbsp\; As a result of the play our audience is encouraged to speak up and out and get help and help others.</span></span><br>\n<br>\n<span style="font-size:14px"><span style="font-family:arial\,helvetica\,sans-serif">Upcoming performance<strong> April 15\, 2023 at 5:00pm at Zion Church of Fredericksburg</strong></span></span></p>\n\n<p><span style="font-size:14px"><span style="font-family:arial\,helvetica\,sans-serif"><strong>Ticket Information:&nbsp\;&nbsp\;</strong></span></span><a href="https://www.eventbrite.com/e/yet-stand-inc-presents-yet-i-stand-stage-play-tickets-534972756917">Yet Stand\, Inc presents YET I STAND Stage Play Tickets\, Sat\, Apr 15\, 2023 at 5:00 PM | Eventbrite</a></p>\n
LOCATION:Zion Church of Fredericksburg 2222 Emancipation Highway Fredericksburg\, VA 22401
UID:e.492.13377
SEQUENCE:3
DTSTAMP:20260422T091635Z
URL:https://members.fredericksburgchamber.org/events/details/yet-i-stand-stage-play-13377
END:VEVENT

END:VCALENDAR
