BEGIN:VCALENDAR
VERSION:2.0
PRODID:-//ChamberMaster//Event Calendar 2.0//EN
METHOD:PUBLISH
X-PUBLISHED-TTL:P3D
REFRESH-INTERVAL:P3D
CALSCALE:GREGORIAN
BEGIN:VEVENT
DTSTART:20230521T190000Z
DTEND:20230521T200000Z
X-MICROSOFT-CDO-ALLDAYEVENT:FALSE
SUMMARY:YogaSix Pop Up
DESCRIPTION:YogaSix pop up yoga class. Hosted at the Century 21 New Millenium Building.
X-ALT-DESC;FMTTYPE=text/html:YogaSix pop up yoga class. Hosted at the Century 21 New Millenium Building.
LOCATION:1931 Plank Road Fredericksburg\, VA 22401
UID:e.492.13564
SEQUENCE:3
DTSTAMP:20260422T065602Z
URL:https://members.fredericksburgchamber.org/events/details/yogasix-pop-up-13564
END:VEVENT

END:VCALENDAR
