BEGIN:VCALENDAR
VERSION:2.0
PRODID:-//ChamberMaster//Event Calendar 2.0//EN
METHOD:PUBLISH
X-PUBLISHED-TTL:P3D
REFRESH-INTERVAL:P3D
CALSCALE:GREGORIAN
BEGIN:VEVENT
DTSTART:20221003T150000Z
DTEND:20221004T000000Z
X-MICROSOFT-CDO-ALLDAYEVENT:FALSE
SUMMARY:Young Life Charity Event At Mellow Mushroom
DESCRIPTION:Come on out and join the Local Area Young Life Organization as they raise funds to support the area Youth. 15% of the proceeds will go back to this Charity.
X-ALT-DESC;FMTTYPE=text/html:Come on out and join the Local Area Young Life Organization as they raise funds to support the area Youth. 15% of the proceeds will go back to this Charity.
LOCATION:Mellow Mushroom Fredericksburg
UID:e.492.13120
SEQUENCE:3
DTSTAMP:20260422T181249Z
URL:https://members.fredericksburgchamber.org/events/details/young-life-charity-event-at-mellow-mushroom-13120
END:VEVENT

END:VCALENDAR
