BEGIN:VCALENDAR
VERSION:2.0
PRODID:-//ChamberMaster//Event Calendar 2.0//EN
METHOD:PUBLISH
X-PUBLISHED-TTL:P3D
REFRESH-INTERVAL:P3D
CALSCALE:GREGORIAN
BEGIN:VEVENT
DTSTART:20220827T130000Z
DTEND:20220827T160000Z
X-MICROSOFT-CDO-ALLDAYEVENT:FALSE
SUMMARY:Zoe Freedom Center - 5k to End Overdose
DESCRIPTION:Register Here\n\n\n\nJoin us to End Overdose\n\n\nRUN/WALK REGISTRATION INCLUDES:\n\n~A Zoe Freedom Center End Overdose 5K Finisher Medal (Virtual - Virtual finisher medal)\n\n~A goodie bag with 2 doses of life-saving NARCAN (not available for virtual)\n\n~A Zoe Freedom Center End Overdose 5K Bib (not available for virtual)\n\n~A Heck of a Good Time!\n\nTHE NEED EXPLAINED:\n\nMore than 107\,000 people died from drug overdoses last year\, according to data released by the CDC's National Center for Health Statistics. \n\nYour participation not only helps bring awareness to this issue\, but it allows us to equip families and individuals with lifesaving NARCAN. We want every family to have every tool available to them to save their loved one's life. \n\nLet's all keep Narcan in our First Aid Kits!
X-ALT-DESC;FMTTYPE=text/html:<h2><a href="https://tzoefc.networkforgood.com/events/41712-2022-5k-to-end-overdose">Register Here</a><br />\n<br />\nJoin us to End Overdose</h2>\n\n<div>\n<h3>RUN/WALK REGISTRATION INCLUDES:</h3>\n\n<p>~A Zoe Freedom Center End Overdose 5K Finisher Medal (Virtual - Virtual finisher medal)<br />\n~A goodie bag with 2 doses of life-saving NARCAN (not available for virtual)<br />\n~A Zoe Freedom Center End Overdose 5K Bib (not available for virtual)<br />\n~A Heck of a Good Time!</p>\n\n<h3>THE NEED EXPLAINED:</h3>\n\n<p>More than 107\,000 people died from drug overdoses last year\, according to data released by the CDC&#39\;s National Center for Health Statistics.&nbsp\;</p>\n\n<p>Your participation not only helps bring awareness to this issue\, but it allows us to equip families and individuals with lifesaving NARCAN. We want every family to have every tool available to them to save their loved one&#39\;s life.&nbsp\;</p>\n\n<p>Let&#39\;s all keep Narcan in our First Aid Kits!</p>\n</div>\n
LOCATION:Mary Washington University 1119 Hanover St. Fredericksburg\, VA
UID:e.492.13034
SEQUENCE:3
DTSTAMP:20260424T082417Z
URL:https://members.fredericksburgchamber.org/events/details/zoe-freedom-center-5k-to-end-overdose-13034
END:VEVENT

END:VCALENDAR
