BEGIN:VCALENDAR
VERSION:2.0
PRODID:-//ChamberMaster//Event Calendar 2.0//EN
METHOD:PUBLISH
X-PUBLISHED-TTL:P3D
REFRESH-INTERVAL:P3D
CALSCALE:GREGORIAN
BEGIN:VEVENT
DTSTART:20221110T160000Z
DTEND:20221111T010000Z
X-MICROSOFT-CDO-ALLDAYEVENT:FALSE
SUMMARY:Zoe Freedom Center Charity Dine-In
DESCRIPTION:Come Dine in and enjoy some Pizza and Cocktails.15% Goes back to help Zoe Freedom Center...Freedom From Addiction! Happy hour is 3-7 and It is also a Tap Take over Night From Stone!
X-ALT-DESC;FMTTYPE=text/html:Come Dine in and enjoy some Pizza and Cocktails.15% Goes back to help Zoe Freedom Center...Freedom From Addiction! Happy hour is 3-7 and It is also a Tap Take over Night From Stone!
LOCATION:Mellow Mushroom Downtown Fredericksburg 609 William St
UID:e.492.13151
SEQUENCE:3
DTSTAMP:20260422T181246Z
URL:https://members.fredericksburgchamber.org/events/details/zoe-freedom-center-charity-dine-in-13151
END:VEVENT

END:VCALENDAR
